Package: dcanr Version: 1.16.0 Command: /Library/Frameworks/R.framework/Resources/bin/R CMD build --keep-empty-dirs --no-resave-data dcanr StartedAt: 2023-10-15 17:48:14 -0400 (Sun, 15 Oct 2023) EndedAt: 2023-10-15 17:49:39 -0400 (Sun, 15 Oct 2023) EllapsedTime: 85.0 seconds RetCode: 0 Status: OK PackageFile: dcanr_1.16.0.tar.gz PackageFileSize: 1.67 MiB