Package: dcGSA Version: 1.28.0 Command: /home/biocbuild/bbs-3.17-bioc/R/bin/R CMD check --install=check:dcGSA.install-out.txt --library=/home/biocbuild/bbs-3.17-bioc/R/site-library --timings dcGSA_1.28.0.tar.gz StartedAt: 2023-10-15 20:37:21 -0400 (Sun, 15 Oct 2023) EndedAt: 2023-10-15 20:37:58 -0400 (Sun, 15 Oct 2023) EllapsedTime: 37.0 seconds RetCode: 0 Status: WARNINGS CheckDir: dcGSA.Rcheck Warnings: 1