Package: dasper Version: 1.9.0 Command: F:\biocbuild\bbs-3.17-bioc\R\bin\R.exe CMD check --no-multiarch --install=check:dasper.install-out.txt --library=F:\biocbuild\bbs-3.17-bioc\R\library --no-vignettes --timings dasper_1.9.0.tar.gz StartedAt: 2023-01-10 00:55:23 -0500 (Tue, 10 Jan 2023) EndedAt: 2023-01-10 01:10:10 -0500 (Tue, 10 Jan 2023) EllapsedTime: 886.5 seconds RetCode: 1 Status: ERROR CheckDir: dasper.Rcheck Warnings: NA