Package: dasper Version: 1.9.0 Command: rm -rf dasper.buildbin-libdir && mkdir dasper.buildbin-libdir && F:\biocbuild\bbs-3.17-bioc\R\bin\R.exe CMD INSTALL --build --library=dasper.buildbin-libdir dasper_1.9.0.tar.gz StartedAt: 2023-01-10 08:29:38 -0500 (Tue, 10 Jan 2023) EndedAt: 2023-01-10 08:30:03 -0500 (Tue, 10 Jan 2023) EllapsedTime: 25.1 seconds RetCode: 0 Status: OK PackageFile: dasper_1.9.0.zip PackageFileSize: 1.57 MiB