Package: dasper Version: 1.10.0 Command: /Library/Frameworks/R.framework/Resources/bin/R CMD INSTALL dasper StartedAt: 2023-10-15 16:22:21 -0400 (Sun, 15 Oct 2023) EndedAt: 2023-10-15 16:23:16 -0400 (Sun, 15 Oct 2023) EllapsedTime: 54.8 seconds RetCode: 0 Status: OK