Package: dasper Version: 1.9.0 Command: rm -rf dasper.buildbin-libdir && mkdir dasper.buildbin-libdir && /Users/biocbuild/BBS/utils/build-universal.sh dasper_1.9.0.tar.gz /Library/Frameworks/R.framework/Resources/bin/R dasper.buildbin-libdir StartedAt: 2023-03-16 09:01:31 -0400 (Thu, 16 Mar 2023) EndedAt: 2023-03-16 09:02:24 -0400 (Thu, 16 Mar 2023) EllapsedTime: 53.2 seconds RetCode: 0 Status: OK PackageFile: dasper_1.9.0.tgz PackageFileSize: 1.696 MiB