Package: dagLogo Version: 1.38.0 Command: /home/biocbuild/bbs-3.17-bioc/R/bin/R CMD check --install=check:dagLogo.install-out.txt --library=/home/biocbuild/bbs-3.17-bioc/R/site-library --timings dagLogo_1.38.0.tar.gz StartedAt: 2023-10-15 20:35:27 -0400 (Sun, 15 Oct 2023) EndedAt: 2023-10-15 20:42:06 -0400 (Sun, 15 Oct 2023) EllapsedTime: 399.2 seconds RetCode: 0 Status: OK CheckDir: dagLogo.Rcheck Warnings: 0