Package: dagLogo Version: 1.38.0 Command: /Library/Frameworks/R.framework/Resources/bin/R CMD INSTALL dagLogo StartedAt: 2023-10-15 15:47:31 -0400 (Sun, 15 Oct 2023) EndedAt: 2023-10-15 15:49:46 -0400 (Sun, 15 Oct 2023) EllapsedTime: 134.2 seconds RetCode: 0 Status: OK