Package: daMA Version: 1.72.0 Command: /home/biocbuild/bbs-3.17-bioc/R/bin/R CMD build --keep-empty-dirs --no-resave-data daMA StartedAt: 2023-10-15 16:30:44 -0400 (Sun, 15 Oct 2023) EndedAt: 2023-10-15 16:30:45 -0400 (Sun, 15 Oct 2023) EllapsedTime: 1.0 seconds RetCode: 0 Status: OK PackageFile: daMA_1.72.0.tar.gz PackageFileSize: 4.026 MiB