Package: daMA Version: 1.72.0 Command: /Library/Frameworks/R.framework/Resources/bin/R CMD build --keep-empty-dirs --no-resave-data daMA StartedAt: 2023-10-15 17:47:56 -0400 (Sun, 15 Oct 2023) EndedAt: 2023-10-15 17:47:58 -0400 (Sun, 15 Oct 2023) EllapsedTime: 2.2 seconds RetCode: 0 Status: OK PackageFile: daMA_1.72.0.tar.gz PackageFileSize: 4.026 MiB