Package: daMA Version: 1.72.0 Command: rm -rf daMA.buildbin-libdir && mkdir daMA.buildbin-libdir && /Users/biocbuild/BBS/utils/build-universal.sh daMA_1.72.0.tar.gz /Library/Frameworks/R.framework/Resources/bin/R daMA.buildbin-libdir StartedAt: 2023-10-16 09:14:35 -0400 (Mon, 16 Oct 2023) EndedAt: 2023-10-16 09:14:43 -0400 (Mon, 16 Oct 2023) EllapsedTime: 7.5 seconds RetCode: 0 Status: OK PackageFile: daMA_1.72.0.tgz PackageFileSize: 4.058 MiB