Package: dStruct Version: 1.6.0 Command: chmod a+r dStruct -R && F:\biocbuild\bbs-3.17-bioc\R\bin\R.exe CMD build --keep-empty-dirs --no-resave-data dStruct StartedAt: 2023-10-15 18:51:37 -0400 (Sun, 15 Oct 2023) EndedAt: 2023-10-15 18:51:57 -0400 (Sun, 15 Oct 2023) EllapsedTime: 19.9 seconds RetCode: 0 Status: OK PackageFile: dStruct_1.6.0.tar.gz PackageFileSize: 557.4 KiB