Package: dStruct Version: 1.6.0 Command: rm -rf dStruct.buildbin-libdir && mkdir dStruct.buildbin-libdir && F:\biocbuild\bbs-3.17-bioc\R\bin\R.exe CMD INSTALL --build --library=dStruct.buildbin-libdir dStruct_1.6.0.tar.gz StartedAt: 2023-10-16 08:44:09 -0400 (Mon, 16 Oct 2023) EndedAt: 2023-10-16 08:44:16 -0400 (Mon, 16 Oct 2023) EllapsedTime: 7.1 seconds RetCode: 0 Status: OK PackageFile: dStruct_1.6.0.zip PackageFileSize: 603.5 KiB