Package: dStruct Version: 1.6.0 Command: /home/biocbuild/bbs-3.17-bioc/R/bin/R CMD build --keep-empty-dirs --no-resave-data dStruct StartedAt: 2023-10-15 16:39:47 -0400 (Sun, 15 Oct 2023) EndedAt: 2023-10-15 16:40:04 -0400 (Sun, 15 Oct 2023) EllapsedTime: 16.3 seconds RetCode: 0 Status: OK PackageFile: dStruct_1.6.0.tar.gz PackageFileSize: 557.4 KiB