Package: cytoviewer Version: 1.0.1 Command: /home/biocbuild/bbs-3.17-bioc/R/bin/R CMD INSTALL cytoviewer StartedAt: 2023-10-15 15:35:13 -0400 (Sun, 15 Oct 2023) EndedAt: 2023-10-15 15:36:00 -0400 (Sun, 15 Oct 2023) EllapsedTime: 47.0 seconds RetCode: 0 Status: OK