Package: cytoviewer Version: 1.0.1 Command: /home/biocbuild/bbs-3.17-bioc/R/bin/R CMD build --keep-empty-dirs --no-resave-data cytoviewer StartedAt: 2023-10-15 16:30:22 -0400 (Sun, 15 Oct 2023) EndedAt: 2023-10-15 16:31:28 -0400 (Sun, 15 Oct 2023) EllapsedTime: 66.0 seconds RetCode: 0 Status: OK PackageFile: cytoviewer_1.0.1.tar.gz PackageFileSize: 1.331 MiB