Package: cytoviewer Version: 1.0.1 Command: /Library/Frameworks/R.framework/Resources/bin/R CMD INSTALL cytoviewer StartedAt: 2023-10-15 16:01:38 -0400 (Sun, 15 Oct 2023) EndedAt: 2023-10-15 16:04:19 -0400 (Sun, 15 Oct 2023) EllapsedTime: 160.3 seconds RetCode: 0 Status: OK