Package: cytoviewer Version: 1.0.1 Command: /Library/Frameworks/R.framework/Resources/bin/R CMD build --keep-empty-dirs --no-resave-data cytoviewer StartedAt: 2023-10-15 17:47:26 -0400 (Sun, 15 Oct 2023) EndedAt: 2023-10-15 17:50:08 -0400 (Sun, 15 Oct 2023) EllapsedTime: 161.9 seconds RetCode: 0 Status: OK PackageFile: cytoviewer_1.0.1.tar.gz PackageFileSize: 1.331 MiB