Package: cytofQC Version: 1.0.0 Command: F:\biocbuild\bbs-3.17-bioc\R\bin\R.exe CMD check --no-multiarch --install=check:cytofQC.install-out.txt --library=F:\biocbuild\bbs-3.17-bioc\R\library --no-vignettes --timings cytofQC_1.0.0.tar.gz StartedAt: 2023-10-16 01:11:12 -0400 (Mon, 16 Oct 2023) EndedAt: 2023-10-16 01:16:45 -0400 (Mon, 16 Oct 2023) EllapsedTime: 332.8 seconds RetCode: 0 Status: OK CheckDir: cytofQC.Rcheck Warnings: 0