Package: cytofQC Version: 1.0.0 Command: chmod a+r cytofQC -R && F:\biocbuild\bbs-3.17-bioc\R\bin\R.exe CMD build --keep-empty-dirs --no-resave-data cytofQC StartedAt: 2023-10-15 18:30:13 -0400 (Sun, 15 Oct 2023) EndedAt: 2023-10-15 18:32:22 -0400 (Sun, 15 Oct 2023) EllapsedTime: 128.8 seconds RetCode: 0 Status: OK PackageFile: cytofQC_1.0.0.tar.gz PackageFileSize: 1.245 MiB