Package: cytofQC Version: 1.0.0 Command: rm -rf cytofQC.buildbin-libdir && mkdir cytofQC.buildbin-libdir && F:\biocbuild\bbs-3.17-bioc\R\bin\R.exe CMD INSTALL --build --library=cytofQC.buildbin-libdir cytofQC_1.0.0.tar.gz StartedAt: 2023-10-16 08:39:36 -0400 (Mon, 16 Oct 2023) EndedAt: 2023-10-16 08:40:17 -0400 (Mon, 16 Oct 2023) EllapsedTime: 40.1 seconds RetCode: 0 Status: OK PackageFile: cytofQC_1.0.0.zip PackageFileSize: 1.335 MiB