Package: cytofQC Version: 1.0.0 Command: /home/biocbuild/bbs-3.17-bioc/R/bin/R CMD build --keep-empty-dirs --no-resave-data cytofQC StartedAt: 2023-10-15 16:29:56 -0400 (Sun, 15 Oct 2023) EndedAt: 2023-10-15 16:31:16 -0400 (Sun, 15 Oct 2023) EllapsedTime: 80.6 seconds RetCode: 0 Status: OK PackageFile: cytofQC_1.0.0.tar.gz PackageFileSize: 1.47 MiB