Package: cytofQC Version: 1.0.0 Command: /Library/Frameworks/R.framework/Resources/bin/R CMD INSTALL cytofQC StartedAt: 2023-10-15 16:26:19 -0400 (Sun, 15 Oct 2023) EndedAt: 2023-10-15 16:28:02 -0400 (Sun, 15 Oct 2023) EllapsedTime: 102.9 seconds RetCode: 0 Status: OK