Package: cytofQC Version: 1.0.0 Command: /Library/Frameworks/R.framework/Resources/bin/R CMD check --install=check:cytofQC.install-out.txt --library=/Library/Frameworks/R.framework/Resources/library --no-vignettes --timings cytofQC_1.0.0.tar.gz StartedAt: 2023-10-16 00:32:15 -0400 (Mon, 16 Oct 2023) EndedAt: 2023-10-16 00:45:38 -0400 (Mon, 16 Oct 2023) EllapsedTime: 803.2 seconds RetCode: 0 Status: OK CheckDir: cytofQC.Rcheck Warnings: 0