Package: cytoMEM Version: 1.4.0 Command: /home/biocbuild/bbs-3.17-bioc/R/bin/R CMD INSTALL cytoMEM StartedAt: 2023-10-15 15:14:06 -0400 (Sun, 15 Oct 2023) EndedAt: 2023-10-15 15:14:13 -0400 (Sun, 15 Oct 2023) EllapsedTime: 7.3 seconds RetCode: 0 Status: OK