Package: cytoMEM Version: 1.4.0 Command: /home/biocbuild/bbs-3.17-bioc/R/bin/R CMD check --install=check:cytoMEM.install-out.txt --library=/home/biocbuild/bbs-3.17-bioc/R/site-library --timings cytoMEM_1.4.0.tar.gz StartedAt: 2023-10-15 20:34:33 -0400 (Sun, 15 Oct 2023) EndedAt: 2023-10-15 20:35:32 -0400 (Sun, 15 Oct 2023) EllapsedTime: 58.7 seconds RetCode: 0 Status: OK CheckDir: cytoMEM.Rcheck Warnings: 0