Package: cytoMEM Version: 1.4.0 Command: /Library/Frameworks/R.framework/Resources/bin/R CMD INSTALL cytoMEM StartedAt: 2023-10-15 15:20:56 -0400 (Sun, 15 Oct 2023) EndedAt: 2023-10-15 15:21:26 -0400 (Sun, 15 Oct 2023) EllapsedTime: 29.4 seconds RetCode: 0 Status: OK