Package: cytoMEM Version: 1.4.0 Command: /Library/Frameworks/R.framework/Resources/bin/R CMD check --install=check:cytoMEM.install-out.txt --library=/Library/Frameworks/R.framework/Resources/library --no-vignettes --timings cytoMEM_1.4.0.tar.gz StartedAt: 2023-10-16 00:34:26 -0400 (Mon, 16 Oct 2023) EndedAt: 2023-10-16 00:37:03 -0400 (Mon, 16 Oct 2023) EllapsedTime: 156.8 seconds RetCode: 0 Status: OK CheckDir: cytoMEM.Rcheck Warnings: 0