Package: cytoMEM Version: 1.4.0 Command: /Library/Frameworks/R.framework/Resources/bin/R CMD build --keep-empty-dirs --no-resave-data cytoMEM StartedAt: 2023-10-15 17:46:50 -0400 (Sun, 15 Oct 2023) EndedAt: 2023-10-15 17:47:26 -0400 (Sun, 15 Oct 2023) EllapsedTime: 35.7 seconds RetCode: 0 Status: OK PackageFile: cytoMEM_1.4.0.tar.gz PackageFileSize: 3.04 MiB