Package: cytoKernel Version: 1.6.0 Command: rm -rf cytoKernel.buildbin-libdir && mkdir cytoKernel.buildbin-libdir && F:\biocbuild\bbs-3.17-bioc\R\bin\R.exe CMD INSTALL --build --library=cytoKernel.buildbin-libdir cytoKernel_1.6.0.tar.gz StartedAt: 2023-10-16 08:39:43 -0400 (Mon, 16 Oct 2023) EndedAt: 2023-10-16 08:40:27 -0400 (Mon, 16 Oct 2023) EllapsedTime: 43.4 seconds RetCode: 0 Status: OK PackageFile: cytoKernel_1.6.0.zip PackageFileSize: 1.09 MiB