Package: cytoKernel Version: 1.6.0 Command: /Library/Frameworks/R.framework/Resources/bin/R CMD check --install=check:cytoKernel.install-out.txt --library=/Library/Frameworks/R.framework/Resources/library --no-vignettes --timings cytoKernel_1.6.0.tar.gz StartedAt: 2023-10-16 00:33:06 -0400 (Mon, 16 Oct 2023) EndedAt: 2023-10-16 00:41:54 -0400 (Mon, 16 Oct 2023) EllapsedTime: 528.2 seconds RetCode: 0 Status: OK CheckDir: cytoKernel.Rcheck Warnings: 0