Package: cytoKernel Version: 1.6.0 Command: rm -rf cytoKernel.buildbin-libdir && mkdir cytoKernel.buildbin-libdir && /Users/biocbuild/BBS/utils/build-universal.sh cytoKernel_1.6.0.tar.gz /Library/Frameworks/R.framework/Resources/bin/R cytoKernel.buildbin-libdir StartedAt: 2023-10-16 09:14:23 -0400 (Mon, 16 Oct 2023) EndedAt: 2023-10-16 09:16:29 -0400 (Mon, 16 Oct 2023) EllapsedTime: 126.7 seconds RetCode: 0 Status: OK PackageFile: cytoKernel_1.6.0.tgz PackageFileSize: 833.5 KiB