Package: cycle Version: 1.54.0 Command: F:\biocbuild\bbs-3.17-bioc\R\bin\R.exe CMD INSTALL cycle StartedAt: 2023-10-15 15:54:53 -0400 (Sun, 15 Oct 2023) EndedAt: 2023-10-15 15:54:59 -0400 (Sun, 15 Oct 2023) EllapsedTime: 5.8 seconds RetCode: 0 Status: OK