Package: cycle Version: 1.54.0 Command: chmod a+r cycle -R && F:\biocbuild\bbs-3.17-bioc\R\bin\R.exe CMD build --keep-empty-dirs --no-resave-data cycle StartedAt: 2023-10-15 18:29:01 -0400 (Sun, 15 Oct 2023) EndedAt: 2023-10-15 18:29:26 -0400 (Sun, 15 Oct 2023) EllapsedTime: 25.0 seconds RetCode: 0 Status: OK PackageFile: cycle_1.54.0.tar.gz PackageFileSize: 104.5 KiB