Package: customProDB Version: 1.40.0 Command: F:\biocbuild\bbs-3.17-bioc\R\bin\R.exe CMD INSTALL customProDB StartedAt: 2023-10-15 16:21:57 -0400 (Sun, 15 Oct 2023) EndedAt: 2023-10-15 16:22:46 -0400 (Sun, 15 Oct 2023) EllapsedTime: 48.8 seconds RetCode: 0 Status: OK