Package: customProDB Version: 1.40.0 Command: chmod a+r customProDB -R && F:\biocbuild\bbs-3.17-bioc\R\bin\R.exe CMD build --keep-empty-dirs --no-resave-data customProDB StartedAt: 2023-10-15 18:28:34 -0400 (Sun, 15 Oct 2023) EndedAt: 2023-10-15 18:30:42 -0400 (Sun, 15 Oct 2023) EllapsedTime: 127.8 seconds RetCode: 0 Status: OK PackageFile: customProDB_1.40.0.tar.gz PackageFileSize: 541.2 KiB