Package: customProDB Version: 1.40.0 Command: rm -rf customProDB.buildbin-libdir && mkdir customProDB.buildbin-libdir && F:\biocbuild\bbs-3.17-bioc\R\bin\R.exe CMD INSTALL --build --library=customProDB.buildbin-libdir customProDB_1.40.0.tar.gz StartedAt: 2023-10-16 08:39:21 -0400 (Mon, 16 Oct 2023) EndedAt: 2023-10-16 08:40:12 -0400 (Mon, 16 Oct 2023) EllapsedTime: 50.6 seconds RetCode: 0 Status: OK PackageFile: customProDB_1.40.0.zip PackageFileSize: 728.7 KiB