Package: customProDB Version: 1.40.0 Command: /home/biocbuild/bbs-3.17-bioc/R/bin/R CMD build --keep-empty-dirs --no-resave-data customProDB StartedAt: 2023-10-15 16:29:15 -0400 (Sun, 15 Oct 2023) EndedAt: 2023-10-15 16:31:46 -0400 (Sun, 15 Oct 2023) EllapsedTime: 151.2 seconds RetCode: 0 Status: OK PackageFile: customProDB_1.40.0.tar.gz PackageFileSize: 540.7 KiB