Package: customProDB Version: 1.40.0 Command: /Library/Frameworks/R.framework/Resources/bin/R CMD build --keep-empty-dirs --no-resave-data customProDB StartedAt: 2023-10-15 17:44:24 -0400 (Sun, 15 Oct 2023) EndedAt: 2023-10-15 17:48:57 -0400 (Sun, 15 Oct 2023) EllapsedTime: 273.0 seconds RetCode: 0 Status: OK PackageFile: customProDB_1.40.0.tar.gz PackageFileSize: 540.2 KiB