Package: customProDB Version: 1.40.0 Command: rm -rf customProDB.buildbin-libdir && mkdir customProDB.buildbin-libdir && /Users/biocbuild/BBS/utils/build-universal.sh customProDB_1.40.0.tar.gz /Library/Frameworks/R.framework/Resources/bin/R customProDB.buildbin-libdir StartedAt: 2023-10-16 09:14:09 -0400 (Mon, 16 Oct 2023) EndedAt: 2023-10-16 09:16:40 -0400 (Mon, 16 Oct 2023) EllapsedTime: 151.1 seconds RetCode: 0 Status: OK PackageFile: customProDB_1.40.0.tgz PackageFileSize: 717 KiB