Package: cummeRbund Version: 2.42.0 Command: /Library/Frameworks/R.framework/Resources/bin/R CMD build --keep-empty-dirs --no-resave-data cummeRbund StartedAt: 2023-10-15 17:43:58 -0400 (Sun, 15 Oct 2023) EndedAt: 2023-10-15 17:49:01 -0400 (Sun, 15 Oct 2023) EllapsedTime: 303.2 seconds RetCode: 0 Status: OK PackageFile: cummeRbund_2.42.0.tar.gz PackageFileSize: 2.608 MiB