Package: ctc Version: 1.74.0 Command: /home/biocbuild/bbs-3.17-bioc/R/bin/R CMD build --keep-empty-dirs --no-resave-data ctc StartedAt: 2023-10-15 16:28:34 -0400 (Sun, 15 Oct 2023) EndedAt: 2023-10-15 16:28:39 -0400 (Sun, 15 Oct 2023) EllapsedTime: 4.3 seconds RetCode: 0 Status: OK PackageFile: ctc_1.74.0.tar.gz PackageFileSize: 88.45 KiB