Package: ctc Version: 1.74.0 Command: rm -rf ctc.buildbin-libdir && mkdir ctc.buildbin-libdir && /Users/biocbuild/BBS/utils/build-universal.sh ctc_1.74.0.tar.gz /Library/Frameworks/R.framework/Resources/bin/R ctc.buildbin-libdir StartedAt: 2023-10-16 09:13:42 -0400 (Mon, 16 Oct 2023) EndedAt: 2023-10-16 09:13:49 -0400 (Mon, 16 Oct 2023) EllapsedTime: 7.2 seconds RetCode: 0 Status: OK PackageFile: ctc_1.74.0.tgz PackageFileSize: 317.7 KiB