Package: csdR Version: 1.6.0 Command: F:\biocbuild\bbs-3.17-bioc\R\bin\R.exe CMD INSTALL csdR StartedAt: 2023-10-15 16:36:02 -0400 (Sun, 15 Oct 2023) EndedAt: 2023-10-15 16:36:53 -0400 (Sun, 15 Oct 2023) EllapsedTime: 51.3 seconds RetCode: 0 Status: OK