Package: csdR Version: 1.6.0 Command: chmod a+r csdR -R && F:\biocbuild\bbs-3.17-bioc\R\bin\R.exe CMD build --keep-empty-dirs --no-resave-data csdR StartedAt: 2023-10-15 18:26:36 -0400 (Sun, 15 Oct 2023) EndedAt: 2023-10-15 18:27:40 -0400 (Sun, 15 Oct 2023) EllapsedTime: 63.7 seconds RetCode: 0 Status: OK PackageFile: csdR_1.6.0.tar.gz PackageFileSize: 1.336 MiB