Package: csdR Version: 1.6.0 Command: rm -rf csdR.buildbin-libdir && mkdir csdR.buildbin-libdir && F:\biocbuild\bbs-3.17-bioc\R\bin\R.exe CMD INSTALL --build --library=csdR.buildbin-libdir csdR_1.6.0.tar.gz StartedAt: 2023-10-16 08:39:00 -0400 (Mon, 16 Oct 2023) EndedAt: 2023-10-16 08:39:51 -0400 (Mon, 16 Oct 2023) EllapsedTime: 51.1 seconds RetCode: 0 Status: OK PackageFile: csdR_1.6.0.zip PackageFileSize: 1.779 MiB