Package: csdR Version: 1.6.0 Command: /home/biocbuild/bbs-3.17-bioc/R/bin/R CMD INSTALL csdR StartedAt: 2023-10-15 15:33:58 -0400 (Sun, 15 Oct 2023) EndedAt: 2023-10-15 15:34:33 -0400 (Sun, 15 Oct 2023) EllapsedTime: 35.4 seconds RetCode: 0 Status: OK