Package: csdR Version: 1.6.0 Command: /home/biocbuild/bbs-3.17-bioc/R/bin/R CMD build --keep-empty-dirs --no-resave-data csdR StartedAt: 2023-10-15 16:28:21 -0400 (Sun, 15 Oct 2023) EndedAt: 2023-10-15 16:29:14 -0400 (Sun, 15 Oct 2023) EllapsedTime: 53.1 seconds RetCode: 0 Status: OK PackageFile: csdR_1.6.0.tar.gz PackageFileSize: 1.44 MiB