Package: csdR Version: 1.6.0 Command: rm -rf csdR.buildbin-libdir && mkdir csdR.buildbin-libdir && /Users/biocbuild/BBS/utils/build-universal.sh csdR_1.6.0.tar.gz /Library/Frameworks/R.framework/Resources/bin/R csdR.buildbin-libdir StartedAt: 2023-10-16 09:13:38 -0400 (Mon, 16 Oct 2023) EndedAt: 2023-10-16 09:15:51 -0400 (Mon, 16 Oct 2023) EllapsedTime: 133.2 seconds RetCode: 0 Status: OK PackageFile: csdR_1.6.0.tgz PackageFileSize: 1.487 MiB