Package: csaw Version: 1.34.0 Command: /home/biocbuild/bbs-3.17-bioc/R/bin/R CMD INSTALL csaw StartedAt: 2023-10-15 15:17:20 -0400 (Sun, 15 Oct 2023) EndedAt: 2023-10-15 15:18:48 -0400 (Sun, 15 Oct 2023) EllapsedTime: 87.9 seconds RetCode: 0 Status: OK